BEGIN:VCALENDAR
PRODID:-//kirchenweb.ch gmbh//veranstaltungsausgabe v2.0//DE
VERSION:2.0
METHOD:PUBLISH
BEGIN:VEVENT
DTSTART:20250804T120000Z
DTEND:20250804T140000Z
LOCATION:Pfarrhaus\, Pilgerweg 1\, \,
TRANSP:OPAQUE
SEQUENCE:0
UID:12404-veranstaltung@ref-rueschlikon.ch
DTSTAMP:20250605T142429Z
DESCRIPTION:Sie haben einen lieben Menschen verloren.\nWie gehe ich in
  dieser Situation damit um? Was kann mir helfen?\nEs braucht ein Mut\,
  über gewisse Dinge zu sprechen. Aber es ist auch eine Chance zu sehen\,
  dass man nicht allein ist.\n\n\nKontakt: Pfr. Ralph Müller\n\nWeitere
  Infos: https://www.ref-rueschlikon.ch/veranstaltung/12404
SUMMARY:Treffpunkt für Trauer und Abschied
PRIORITY:5
X-MICROSOFT-CDO-IMPORTANCE:1
CLASS:PUBLIC
END:VEVENT
END:VCALENDAR
