BEGIN:VCALENDAR
PRODID:-//kirchenweb.ch gmbh//veranstaltungsausgabe v2.0//DE
VERSION:2.0
METHOD:PUBLISH
BEGIN:VEVENT
DTSTART:20250921T080000Z
DTEND:20250921T090000Z
LOCATION:Reformierte Kirche\, \,
TRANSP:OPAQUE
SEQUENCE:0
UID:12141-veranstaltung@ref-rueschlikon.ch
DTSTAMP:20250916T082030Z
DESCRIPTION:Kontakt: Pfrn. Dagmar Rohrbach\n\nWeitere Infos:
  https://www.ref-rueschlikon.ch/veranstaltung/12141
SUMMARY:Gottesdienst zum Eidg. Dank\,- Buss und Bettag
PRIORITY:5
X-MICROSOFT-CDO-IMPORTANCE:1
CLASS:PUBLIC
END:VEVENT
END:VCALENDAR
